BEGIN:VCALENDAR
VERSION:2.0
PRODID:-//wp-events-plugin.com//7.2.3.1//EN
TZID:America/New_York
X-WR-TIMEZONE:America/New_York
BEGIN:VEVENT
UID:194@champlainweekend.champlain.edu
DTSTART;TZID=America/New_York:20251025T110000
DTEND;TZID=America/New_York:20251025T114500
DTSTAMP:20251008T170456Z
URL:https://champlainweekend.champlain.edu/events/champlain-innovators-ser
 ies-intersection-of-art-and-tech/
SUMMARY:Champlain Innovators Series - The Intersection of Art &amp\; Techno
 logy
DESCRIPTION:\nJoin Champlain College President Alex Hernandez in conversati
 on with Craig Winslow '10 for an inspiring discussion about the power of c
 uriosity\, flexibility\, and self-directed learning at the intersection of
  art and technology. Winslow will share how going above and beyond as a st
 udent—taking classes across multiple majors and embracing every learning
  opportunity—laid the foundation for a thriving career in rapidly evolvi
 ng creative fields. From building his graduation portfolio in Adobe Flash 
 to navigating today's ever-shifting landscape of AR platforms and emerging
  tools\, Craig's journey illustrates why adaptability and a commitment to 
 continuous learning matter more than mastering any single technology. This
  conversation will explore how Champlain's flexible\, interdisciplinary ap
 proach prepares students not just for their first job\, but for careers th
 at don't yet exist. There will be a Q&amp\;A at the end of the session.\n
ATTACH;FMTTYPE=image/jpeg:https://champlainweekend.champlain.edu/wp-conten
 t/uploads/2024/08/AD-220606-ITS-Game-Art86-2100x1400-40f0f574-1120-40a9-a4
 fd-19e8de1e5f8c.jpg
LOCATION:Alumni Auditorium\, Champlain College\, Burlington\, VT\, United S
 tates
X-APPLE-STRUCTURED-LOCATION;VALUE=URI;X-ADDRESS=Champlain College\, Burling
 ton\, VT\, United States;X-APPLE-RADIUS=100;X-TITLE=Alumni Auditorium:geo:
 0,0
END:VEVENT
BEGIN:VTIMEZONE
TZID:America/New_York
X-LIC-LOCATION:America/New_York
BEGIN:DAYLIGHT
DTSTART:20250309T030000
TZOFFSETFROM:-0500
TZOFFSETTO:-0400
TZNAME:EDT
END:DAYLIGHT
END:VTIMEZONE
END:VCALENDAR