BEGIN:VCALENDAR
VERSION:2.0
PRODID:-//wp-events-plugin.com//7.2.3.1//EN
TZID:America/New_York
X-WR-TIMEZONE:America/New_York
BEGIN:VEVENT
UID:156@champlainweekend.champlain.edu
DTSTART;TZID=America/New_York:20251025T090000
DTEND;TZID=America/New_York:20251025T160000
DTSTAMP:20250910T161229Z
URL:https://champlainweekend.champlain.edu/events/scavenger-hunts/
SUMMARY:Photo Scavenger Hunts!
DESCRIPTION:\nExplore Champlain College and the South End of Burlington wit
 h your camera! Go on a photo scavenger hunt\, take pictures of what you fi
 nd\, and get to know our beautiful campus. Head to The Lemonade Stand Info
 rmation Hub to collect your prize once you’ve finished your hunt. Choose
  Champlain\, South End\, or both for double the fun!\n\n\n\nNote: The maps
  will be included in the digital schedules emailed to you prior to the wee
 kend. Hard copies will also be available on-site.\n
ATTACH;FMTTYPE=image/jpeg:https://champlainweekend.champlain.edu/wp-conten
 t/uploads/2023/01/burlington-vertical.jpg
LOCATION:Rozendaal Courtyard\, Champlain College\, Burlington\, VT\, United
  States
X-APPLE-STRUCTURED-LOCATION;VALUE=URI;X-ADDRESS=Champlain College\, Burling
 ton\, VT\, United States;X-APPLE-RADIUS=100;X-TITLE=Rozendaal Courtyard:ge
 o:0,0
END:VEVENT
BEGIN:VTIMEZONE
TZID:America/New_York
X-LIC-LOCATION:America/New_York
BEGIN:DAYLIGHT
DTSTART:20250309T030000
TZOFFSETFROM:-0500
TZOFFSETTO:-0400
TZNAME:EDT
END:DAYLIGHT
END:VTIMEZONE
END:VCALENDAR